BEGIN:VCALENDAR
VERSION:2.0
PRODID:-//KohtaamisPaikka Jyväskylä - ECPv6.15.20//NONSGML v1.0//EN
CALSCALE:GREGORIAN
METHOD:PUBLISH
X-ORIGINAL-URL:https://www.kohtaamispaikka.net
X-WR-CALDESC:Tapahtumat KohtaamisPaikka Jyväskylä
REFRESH-INTERVAL;VALUE=DURATION:PT1H
X-Robots-Tag:noindex
X-PUBLISHED-TTL:PT1H
BEGIN:VTIMEZONE
TZID:Europe/Helsinki
BEGIN:DAYLIGHT
TZOFFSETFROM:+0200
TZOFFSETTO:+0300
TZNAME:EEST
DTSTART:20250330T010000
END:DAYLIGHT
BEGIN:STANDARD
TZOFFSETFROM:+0300
TZOFFSETTO:+0200
TZNAME:EET
DTSTART:20251026T010000
END:STANDARD
BEGIN:DAYLIGHT
TZOFFSETFROM:+0200
TZOFFSETTO:+0300
TZNAME:EEST
DTSTART:20260329T010000
END:DAYLIGHT
BEGIN:STANDARD
TZOFFSETFROM:+0300
TZOFFSETTO:+0200
TZNAME:EET
DTSTART:20261025T010000
END:STANDARD
BEGIN:DAYLIGHT
TZOFFSETFROM:+0200
TZOFFSETTO:+0300
TZNAME:EEST
DTSTART:20270328T010000
END:DAYLIGHT
BEGIN:STANDARD
TZOFFSETFROM:+0300
TZOFFSETTO:+0200
TZNAME:EET
DTSTART:20271031T010000
END:STANDARD
END:VTIMEZONE
BEGIN:VEVENT
DTSTART;TZID=Europe/Helsinki:20260113T190000
DTEND;TZID=Europe/Helsinki:20260113T200000
DTSTAMP:20260425T013826
CREATED:20251219T154346Z
LAST-MODIFIED:20251219T154346Z
UID:18476-1768330800-1768334400@www.kohtaamispaikka.net
SUMMARY:Gospeljumppa
DESCRIPTION:Gospeljumppa on kuntojumppaa ylistysmusiikin tahdissa; helpohkot askelsarjat\, lihaskuntoa ja venyttelyä. Jumppa alkaa ja päättyy rukoukseen. \nJumpat aikavälillä 2.9.2025 – 12.5.2026 Kukkulan koululla (os. Kukkumäentie 29\, sairaala Novan takana) tiistaisin klo 19-20. Koulujen loma-aikoina pidetään taukoa. \nOhjaajina kaudella 25-26 toimivat tutut Mari ja Noora (mammaloman jälkeen) ja uusina ohjaajina perhe Korpela 🤩. \nTervetuloa vanhat ja uudet jumppaajat mukaan hikoilemaan! \nOsallistuminen ei vaadi sitoutumista. Voit tulla mukaan vaikka kertaluontoisesti. Jumppa on maksuton.
URL:https://www.kohtaamispaikka.net/event/gospeljumppa-103/
LOCATION:Kukkulan koulu\, Kukkumäentie 29\, Jyväskylä\, Suomi
END:VEVENT
END:VCALENDAR