BEGIN:VCALENDAR
VERSION:2.0
PRODID:-//KohtaamisPaikka Jyväskylä - ECPv6.15.20//NONSGML v1.0//EN
CALSCALE:GREGORIAN
METHOD:PUBLISH
X-ORIGINAL-URL:https://www.kohtaamispaikka.net
X-WR-CALDESC:Tapahtumat KohtaamisPaikka Jyväskylä
REFRESH-INTERVAL;VALUE=DURATION:PT1H
X-Robots-Tag:noindex
X-PUBLISHED-TTL:PT1H
BEGIN:VTIMEZONE
TZID:Europe/Helsinki
BEGIN:DAYLIGHT
TZOFFSETFROM:+0200
TZOFFSETTO:+0300
TZNAME:EEST
DTSTART:20250330T010000
END:DAYLIGHT
BEGIN:STANDARD
TZOFFSETFROM:+0300
TZOFFSETTO:+0200
TZNAME:EET
DTSTART:20251026T010000
END:STANDARD
BEGIN:DAYLIGHT
TZOFFSETFROM:+0200
TZOFFSETTO:+0300
TZNAME:EEST
DTSTART:20260329T010000
END:DAYLIGHT
BEGIN:STANDARD
TZOFFSETFROM:+0300
TZOFFSETTO:+0200
TZNAME:EET
DTSTART:20261025T010000
END:STANDARD
BEGIN:DAYLIGHT
TZOFFSETFROM:+0200
TZOFFSETTO:+0300
TZNAME:EEST
DTSTART:20270328T010000
END:DAYLIGHT
BEGIN:STANDARD
TZOFFSETFROM:+0300
TZOFFSETTO:+0200
TZNAME:EET
DTSTART:20271031T010000
END:STANDARD
END:VTIMEZONE
BEGIN:VEVENT
DTSTART;TZID=Europe/Helsinki:20260118T160000
DTEND;TZID=Europe/Helsinki:20260118T164500
DTSTAMP:20260424T174613
CREATED:20251205T071140Z
LAST-MODIFIED:20251205T071140Z
UID:18304-1768752000-1768754700@www.kohtaamispaikka.net
SUMMARY:Lapsiperheiden päivällinen Palokassa
DESCRIPTION:Lapsiperheet\, tervetuloa syömään yhdessä Palokan kirkon alasaliin (Rovastintie 8) keittopäivällistä ennen KohtaamisPaikan messua klo 16 alkaen.  \nVapaaehtoinen maksu kulujen kattamiseksi: MobilePay\, korttimaksu.(Suositushinnat: 4-9v. 1\,5e\, yli 10v. 3e\, alle 4v ilmainen). \nYhteisen ruokailun ja hengailun jälkeen siirrymme kirkkosaliin jumalanpalvelukseen.
URL:https://www.kohtaamispaikka.net/event/lapsiperheiden-paivallinen-palokassa/
END:VEVENT
BEGIN:VEVENT
DTSTART;TZID=Europe/Helsinki:20260118T170000
DTEND;TZID=Europe/Helsinki:20260118T183000
DTSTAMP:20260424T174613
CREATED:20251205T070355Z
LAST-MODIFIED:20260104T110938Z
UID:18286-1768755600-1768761000@www.kohtaamispaikka.net
SUMMARY:KohtaamisPaikka Palokan kirkossa
DESCRIPTION: KohtaamisPaikka Palokan kirkossa \n🙌 Ylistystä \n📗 Raamatun opetusta \n🙏 Rukouspalvelu \n🍞🍷 Ehtoollinen \n😋 Iltapalaa \n  \nLapsille omaa ohjelmaa kolmessa ikäryhmässä: \n👉Koppis 3-6 v. \n👉KooPee 7-11 v. \n👉K12 12 v. —> \n  \n🚘 Palokan kirkon osoite on Rovastintie 8. \n📲Voit tulla mukaan striimiin zoom-sovelluksella. Suora linkki zoomiin: \nhttps://zoom.us/j/94158819600?pwd=cHJFWkpHS3Q3Q1VOdHZGZHJWdmc4QT09 \nMeeting ID: 941 5881 9600 \nPasscode: 739508 \n▶️Jumalanpalveluksen puhe tallennetaan ja se tulee katsottavaksi YouTube-kanavalle KohtaamisPaikka Jyväskylä. \n  \nLapsiperhepäivällinen \n🍲😋Erityisesti lapsiperheille tervetuloa syömään yhdessä kirkon alasaliin keittopäivällinen ennen messua klo 16-16.45. Vapaaehtoinen maksu kulujen kattamiseksi (suositushinnat: 4-9v. 1\,5e\, yli 10v. 3e\, alle 4v ilmainen).
URL:https://www.kohtaamispaikka.net/event/kohtaamispaikka-palokan-kirkossa-18/
END:VEVENT
END:VCALENDAR