BEGIN:VCALENDAR
VERSION:2.0
PRODID:-//KohtaamisPaikka Jyväskylä - ECPv6.15.20//NONSGML v1.0//EN
CALSCALE:GREGORIAN
METHOD:PUBLISH
X-WR-CALNAME:KohtaamisPaikka Jyväskylä
X-ORIGINAL-URL:https://www.kohtaamispaikka.net
X-WR-CALDESC:Tapahtumat KohtaamisPaikka Jyväskylä
REFRESH-INTERVAL;VALUE=DURATION:PT1H
X-Robots-Tag:noindex
X-PUBLISHED-TTL:PT1H
BEGIN:VTIMEZONE
TZID:Europe/Helsinki
BEGIN:DAYLIGHT
TZOFFSETFROM:+0200
TZOFFSETTO:+0300
TZNAME:EEST
DTSTART:20250330T010000
END:DAYLIGHT
BEGIN:STANDARD
TZOFFSETFROM:+0300
TZOFFSETTO:+0200
TZNAME:EET
DTSTART:20251026T010000
END:STANDARD
BEGIN:DAYLIGHT
TZOFFSETFROM:+0200
TZOFFSETTO:+0300
TZNAME:EEST
DTSTART:20260329T010000
END:DAYLIGHT
BEGIN:STANDARD
TZOFFSETFROM:+0300
TZOFFSETTO:+0200
TZNAME:EET
DTSTART:20261025T010000
END:STANDARD
BEGIN:DAYLIGHT
TZOFFSETFROM:+0200
TZOFFSETTO:+0300
TZNAME:EEST
DTSTART:20270328T010000
END:DAYLIGHT
BEGIN:STANDARD
TZOFFSETFROM:+0300
TZOFFSETTO:+0200
TZNAME:EET
DTSTART:20271031T010000
END:STANDARD
END:VTIMEZONE
BEGIN:VEVENT
DTSTART;TZID=Europe/Helsinki:20260120T180000
DTEND;TZID=Europe/Helsinki:20260120T200000
DTSTAMP:20260424T144341
CREATED:20260105T074708Z
LAST-MODIFIED:20260105T074708Z
UID:18613-1768932000-1768939200@www.kohtaamispaikka.net
SUMMARY:Laukaan KohtaamisRyhmä
DESCRIPTION:Laukaan KohtaamisRyhmä on eri ikäisten aikuisten ryhmä\, joka kokoontuu kodeissa pääosin Laukaassa. Olet kuitenkin tervetullut mukaan mistä päin tahansa. Kokoonnumme tiistaisin kahden viikon välein klo 18-20. \nKysy tapaamispaikka ja lisätiedot Heliltä: puh. 050 413 2467\, soita\, laita viestiä tai WhatsAppia.
URL:https://www.kohtaamispaikka.net/event/laukaan-kohtaamisryhma-44/
END:VEVENT
BEGIN:VEVENT
DTSTART;TZID=Europe/Helsinki:20260120T180000
DTEND;TZID=Europe/Helsinki:20260120T200000
DTSTAMP:20260424T144341
CREATED:20260108T113439Z
LAST-MODIFIED:20260108T113439Z
UID:18640-1768932000-1768939200@www.kohtaamispaikka.net
SUMMARY:Silmun KohtaamisRyhmä
DESCRIPTION:KohtaamisRyhmä ’Silmu’ kokoontuu nimensä mukaisesti Kirkkopuiston laidalla Jyväskylän seurakunnan Silmu-tilassa Kilpisenkatu 8. \nRyhmä on eri ikäisten aikuisten ryhmä. Kokoonnumme tiistaisin klo 18-20 kahden viikon välein. \nKysy lisätiedot Antilta puh. 050 590 2382 tai Erjalta puh. 043 211 0168. Laita viestiä (myös WhatsApp) tai soita – tervetuloa!
URL:https://www.kohtaamispaikka.net/event/silmun-kohtaamisryhma/
END:VEVENT
BEGIN:VEVENT
DTSTART;TZID=Europe/Helsinki:20260120T190000
DTEND;TZID=Europe/Helsinki:20260120T200000
DTSTAMP:20260424T144341
CREATED:20251219T154426Z
LAST-MODIFIED:20251219T154426Z
UID:18478-1768935600-1768939200@www.kohtaamispaikka.net
SUMMARY:Gospeljumppa
DESCRIPTION:Gospeljumppa on kuntojumppaa ylistysmusiikin tahdissa; helpohkot askelsarjat\, lihaskuntoa ja venyttelyä. Jumppa alkaa ja päättyy rukoukseen. \nJumpat aikavälillä 2.9.2025 – 12.5.2026 Kukkulan koululla (os. Kukkumäentie 29\, sairaala Novan takana) tiistaisin klo 19-20. Koulujen loma-aikoina pidetään taukoa. \nOhjaajina kaudella 25-26 toimivat tutut Mari ja Noora (mammaloman jälkeen) ja uusina ohjaajina perhe Korpela 🤩. \nTervetuloa vanhat ja uudet jumppaajat mukaan hikoilemaan! \nOsallistuminen ei vaadi sitoutumista. Voit tulla mukaan vaikka kertaluontoisesti. Jumppa on maksuton.
URL:https://www.kohtaamispaikka.net/event/gospeljumppa-104/
LOCATION:Kukkulan koulu\, Kukkumäentie 29\, Jyväskylä\, Suomi
END:VEVENT
END:VCALENDAR