BEGIN:VCALENDAR
VERSION:2.0
PRODID:-//KohtaamisPaikka Jyväskylä - ECPv6.15.20//NONSGML v1.0//EN
CALSCALE:GREGORIAN
METHOD:PUBLISH
X-ORIGINAL-URL:https://www.kohtaamispaikka.net
X-WR-CALDESC:Tapahtumat KohtaamisPaikka Jyväskylä
REFRESH-INTERVAL;VALUE=DURATION:PT1H
X-Robots-Tag:noindex
X-PUBLISHED-TTL:PT1H
BEGIN:VTIMEZONE
TZID:Europe/Helsinki
BEGIN:DAYLIGHT
TZOFFSETFROM:+0200
TZOFFSETTO:+0300
TZNAME:EEST
DTSTART:20240331T010000
END:DAYLIGHT
BEGIN:STANDARD
TZOFFSETFROM:+0300
TZOFFSETTO:+0200
TZNAME:EET
DTSTART:20241027T010000
END:STANDARD
BEGIN:DAYLIGHT
TZOFFSETFROM:+0200
TZOFFSETTO:+0300
TZNAME:EEST
DTSTART:20250330T010000
END:DAYLIGHT
BEGIN:STANDARD
TZOFFSETFROM:+0300
TZOFFSETTO:+0200
TZNAME:EET
DTSTART:20251026T010000
END:STANDARD
BEGIN:DAYLIGHT
TZOFFSETFROM:+0200
TZOFFSETTO:+0300
TZNAME:EEST
DTSTART:20260329T010000
END:DAYLIGHT
BEGIN:STANDARD
TZOFFSETFROM:+0300
TZOFFSETTO:+0200
TZNAME:EET
DTSTART:20261025T010000
END:STANDARD
END:VTIMEZONE
BEGIN:VEVENT
DTSTART;TZID=Europe/Helsinki:20251201T180000
DTEND;TZID=Europe/Helsinki:20251201T200000
DTSTAMP:20260425T234108
CREATED:20250912T110418Z
LAST-MODIFIED:20250912T110418Z
UID:17535-1764612000-1764619200@www.kohtaamispaikka.net
SUMMARY:Äijälänrannan KohtaamisRyhmä
DESCRIPTION:Naisille suunnattu Äijälänrannan KohtaamisRyhmä kokoontuu kodissa maanantaisin 3-4:n viikon välein. Kokoontuminen on Äijälänrannassa\, mutta mukana on väkeä ympäri kaupunkia\, joten tervetuloa mukaan muualtakin. \nIlta rakentuu nyyttäriperiaatteella rakentuvasta iltapalasta\, Raamatun lukemisesta ja löydöistä luetun äärellä sekä rukouksesta. Illan lopuksi jaamme rukousaiheita ja rukoilemme toistemme puolesta. \nKysy lisää Tiinalta puh. 044 524 3904.
URL:https://www.kohtaamispaikka.net/event/aijalanrannan-kohtaamisryhma-4/
END:VEVENT
BEGIN:VEVENT
DTSTART;TZID=Europe/Helsinki:20251202T190000
DTEND;TZID=Europe/Helsinki:20251202T200000
DTSTAMP:20260425T234108
CREATED:20250611T085924Z
LAST-MODIFIED:20250611T085924Z
UID:16781-1764702000-1764705600@www.kohtaamispaikka.net
SUMMARY:Gospeljumppa
DESCRIPTION:Gospeljumppa on kuntojumppaa ylistysmusiikin tahdissa; helpohkot askelsarjat\, lihaskuntoa ja venyttelyä. Jumppa alkaa ja päättyy rukoukseen. \nJumpat aikavälillä 2.9.2025 – 12.5.2026 Kukkulan koululla (os. Kukkumäentie 29\, sairaala Novan takana) tiistaisin klo 19-20. Koulujen loma-aikoina pidetään taukoa. \nOhjaajina kaudella 25-26 toimivat tutut Mari ja Noora (mammaloman jälkeen) ja uusina ohjaajina perhe Korpela 🤩. \nTervetuloa vanhat ja uudet jumppaajat mukaan hikoilemaan! \nOsallistuminen ei vaadi sitoutumista. Voit tulla mukaan vaikka kertaluontoisesti. Jumppa on maksuton.
URL:https://www.kohtaamispaikka.net/event/gospeljumppa-101/
END:VEVENT
BEGIN:VEVENT
DTSTART;TZID=Europe/Helsinki:20251203T173000
DTEND;TZID=Europe/Helsinki:20251203T190000
DTSTAMP:20260425T234108
CREATED:20250820T071329Z
LAST-MODIFIED:20250820T071329Z
UID:17335-1764783000-1764788400@www.kohtaamispaikka.net
SUMMARY:Vanhempien KohtaamisRyhmä
DESCRIPTION:Lapsiperheen arjen realiteetit tuovat usein mukanaan sen\, että omaa aikaa on vaikea saada. Vanhempien on myös haastavaa vaalia jumalasuhdettaan kun energia menee muiden perustarpeiden täyttämiseen. Tästä syystä on Vanhempien KohtaamisRyhmä. \nMitä?\nAvoin KohtaamisRyhmä vanhemmille\, jossa keskitytään yhdessä rukoiluun\, ylistykseen ja Raamatun sanaan. \nMissä? \nKeltinmäen kirkko\, päiväkerhotila. Osoite: Keltinmäentie 10. Esteetön sisäänkäynti kirkon takaa. \nEntä lapset?\nLapsille on samanaikaisesti tarjolla oma hetki läheisessä tilassa lastenhoitajien kanssa. \nIllan lopuksi tarjolla on iltapalaa erityisesti perheen pienimmille. \nLisätietoa Hannalta: hanna.viitasalo@kohtaamispaikka.net / puh. 045 7838 1992
URL:https://www.kohtaamispaikka.net/event/vanhempien-kohtaamisryhma-41/
END:VEVENT
BEGIN:VEVENT
DTSTART;TZID=Europe/Helsinki:20251204T143000
DTEND;TZID=Europe/Helsinki:20251204T163000
DTSTAMP:20260425T234108
CREATED:20250821T120919Z
LAST-MODIFIED:20250821T120919Z
UID:17367-1764858600-1764865800@www.kohtaamispaikka.net
SUMMARY:Koululaiskerho
DESCRIPTION:Linkki ilmoittautumiseen! \nKohtaamisPaikan koululaiskerhossa kasvetaan yhdessä Jeesuksen opetuslapsina.\nSe tarkoittaa mm.:\n📖 Oman elämän ja uskon asioiden pohtimista Raamatun pohjalta\n😄 Hauskanpitoa uusien ja vanhojen ystävien kanssa\n🙏 Rukousta\, ylistystä ja uskoelämän harjoittelua yhdessä\n🎨 Ohjelmaa suunnitellaan yhdessä kerholaisten kanssa \nKerho on suunnattu kaikille kouluikäisille\, jotka ovat kiinnostuneita näistä teemoista. \n📍 Paikka: Nuortentila\, Yliopistonkatu 26B (käynti sisäpihan puolelta)\nKävelyetäisyydellä keskustan koululaisille. Bussilla tuleville kävelyä keskustan pysäkeiltä noin 500 m. \n💡 Kerhon ohjelmassa edetään suunnitelmallisesti ja parhaiten pääsee mukaan\, kun sitoutuu kerhossa käymiseen. Toki kerhoon saa tulla myös kesken kauden ja kavereita saa kutsua mukaan!\nMuistathan\, että kaverin huoltajan on täytettävä ilmoittautumislomake ennen osallistumista. \n👩‍🏫 Vastuuaikuinen \nHanna Viitasalo\n📧 hanna.viitasalo@kohtaamispaikka.net\n📱 045 7838 1992 \n🕒 Alustava aikataulu \n⏰ Liukuva saapuminen klo 14.30–15.30 välillä \n🥪 Oma eväsvälipala (KohtaamisPaikka tarjoaa mehua ja pientä purtavaa)\n📚 Itsenäistä läksyjen tekoa\n🎲 Leikkiä ja hauskoja puuhia oman mielenkiinnon mukaan \n🎯 klo 15.30 Ohjattua ohjelmaa vaihtelevin teemoin \n⏰ klo 16.30 Kerho päättyy \nKoululaiskerho on maksuton. \nLinkki ilmoittautumiseen!
URL:https://www.kohtaamispaikka.net/event/koululaiskerho-13/
END:VEVENT
BEGIN:VEVENT
DTSTART;TZID=Europe/Helsinki:20251209T180000
DTEND;TZID=Europe/Helsinki:20251209T200000
DTSTAMP:20260425T234108
CREATED:20250912T112658Z
LAST-MODIFIED:20250912T112658Z
UID:17565-1765303200-1765310400@www.kohtaamispaikka.net
SUMMARY:Laukaan KohtaamisRyhmä
DESCRIPTION:Laukaan kohtaamisryhmä on eri ikäisten aikuisten ryhmä\, joka kokoontuu kodeissa pääosin Laukaassa. Olet kuitenkin tervetullut mukaan mistä päin tahansa. Kokoonnumme tiistaisin kahden viikon välein klo 18-20. \nKysy tapaamispaikka ja lisätiedot Heliltä: puh. 050 413 2467\, soita\, laita viestiä tai WhatsAppia.
URL:https://www.kohtaamispaikka.net/event/laukaan-kohtaamisryhma-42/
END:VEVENT
BEGIN:VEVENT
DTSTART;TZID=Europe/Helsinki:20251209T190000
DTEND;TZID=Europe/Helsinki:20251209T200000
DTSTAMP:20260425T234108
CREATED:20250611T085958Z
LAST-MODIFIED:20250611T085958Z
UID:16783-1765306800-1765310400@www.kohtaamispaikka.net
SUMMARY:Gospeljumppa
DESCRIPTION:Gospeljumppa on kuntojumppaa ylistysmusiikin tahdissa; helpohkot askelsarjat\, lihaskuntoa ja venyttelyä. Jumppa alkaa ja päättyy rukoukseen. \nJumpat aikavälillä 2.9.2025 – 12.5.2026 Kukkulan koululla (os. Kukkumäentie 29\, sairaala Novan takana) tiistaisin klo 19-20. Koulujen loma-aikoina pidetään taukoa. \nOhjaajina kaudella 25-26 toimivat tutut Mari ja Noora (mammaloman jälkeen) ja uusina ohjaajina perhe Korpela 🤩. \nTervetuloa vanhat ja uudet jumppaajat mukaan hikoilemaan! \nOsallistuminen ei vaadi sitoutumista. Voit tulla mukaan vaikka kertaluontoisesti. Jumppa on maksuton.
URL:https://www.kohtaamispaikka.net/event/gospeljumppa-102/
END:VEVENT
BEGIN:VEVENT
DTSTART;TZID=Europe/Helsinki:20251210T180000
DTEND;TZID=Europe/Helsinki:20251210T200000
DTSTAMP:20260425T234108
CREATED:20250913T134915Z
LAST-MODIFIED:20250913T134915Z
UID:17593-1765389600-1765396800@www.kohtaamispaikka.net
SUMMARY:TaideKohtaaminen
DESCRIPTION:TaideKohtaaminen – tehdään taidetta Raamatun ja rukouksen innoittamina! Paikkana on Kristillinen koulu\, Voionmaankatu 18. \nOta mukaan itsellesi mieluisimmat taiteiluvälineet\, esim. paperia tai vihko\, kyniä\, akvarellivärejä\, askarteluvälineitä sekä villasukat tai sisäkengät. Tekniikka ja tyyli vapaat. \nTiedustelut saara.mansikka.aho(ät)gmail.com
URL:https://www.kohtaamispaikka.net/event/taidekohtaaminen-54/
LOCATION:Kristillinen koulu\, Voionmaankatu 18\, Jyväskylä\, 40700
END:VEVENT
BEGIN:VEVENT
DTSTART;TZID=Europe/Helsinki:20251211T143000
DTEND;TZID=Europe/Helsinki:20251211T163000
DTSTAMP:20260425T234108
CREATED:20250821T120952Z
LAST-MODIFIED:20250821T120952Z
UID:17369-1765463400-1765470600@www.kohtaamispaikka.net
SUMMARY:Koululaiskerho
DESCRIPTION:Linkki ilmoittautumiseen! \nKohtaamisPaikan koululaiskerhossa kasvetaan yhdessä Jeesuksen opetuslapsina.\nSe tarkoittaa mm.:\n📖 Oman elämän ja uskon asioiden pohtimista Raamatun pohjalta\n😄 Hauskanpitoa uusien ja vanhojen ystävien kanssa\n🙏 Rukousta\, ylistystä ja uskoelämän harjoittelua yhdessä\n🎨 Ohjelmaa suunnitellaan yhdessä kerholaisten kanssa \nKerho on suunnattu kaikille kouluikäisille\, jotka ovat kiinnostuneita näistä teemoista. \n📍 Paikka: Nuortentila\, Yliopistonkatu 26B (käynti sisäpihan puolelta)\nKävelyetäisyydellä keskustan koululaisille. Bussilla tuleville kävelyä keskustan pysäkeiltä noin 500 m. \n💡 Kerhon ohjelmassa edetään suunnitelmallisesti ja parhaiten pääsee mukaan\, kun sitoutuu kerhossa käymiseen. Toki kerhoon saa tulla myös kesken kauden ja kavereita saa kutsua mukaan!\nMuistathan\, että kaverin huoltajan on täytettävä ilmoittautumislomake ennen osallistumista. \n👩‍🏫 Vastuuaikuinen \nHanna Viitasalo\n📧 hanna.viitasalo@kohtaamispaikka.net\n📱 045 7838 1992 \n🕒 Alustava aikataulu \n⏰ Liukuva saapuminen klo 14.30–15.30 välillä \n🥪 Oma eväsvälipala (KohtaamisPaikka tarjoaa mehua ja pientä purtavaa)\n📚 Itsenäistä läksyjen tekoa\n🎲 Leikkiä ja hauskoja puuhia oman mielenkiinnon mukaan \n🎯 klo 15.30 Ohjattua ohjelmaa vaihtelevin teemoin \n⏰ klo 16.30 Kerho päättyy \nKoululaiskerho on maksuton. \nLinkki ilmoittautumiseen!
URL:https://www.kohtaamispaikka.net/event/koululaiskerho-14/
END:VEVENT
BEGIN:VEVENT
DTSTART;TZID=Europe/Helsinki:20251214T163000
DTEND;TZID=Europe/Helsinki:20251214T180000
DTSTAMP:20260425T234108
CREATED:20250611T090644Z
LAST-MODIFIED:20251214T143640Z
UID:16793-1765729800-1765735200@www.kohtaamispaikka.net
SUMMARY:KohtaamisPaikan joulujuhla Kristillisellä koululla
DESCRIPTION:Kaiken ikäisten yhteinen joulujuhla \nklo 16.30-17.15 Tarjoilua ja toimintapisteitä \nklo 17 Joululauluja salissa \nklo 17.15 Kaikkien yhteinen joulujuhlajumis \nTervetuloa! \nPs. Joulujuhlassa ei ole erikseen lastenohjelmia. \nStriimi \nJos et pääse paikalle\, voit liittyä mukaan zoomin kautta. Suora linkki zoomiin: \nhttps://zoom.us/j/94158819600?pwd=cHJFWkpHS3Q3Q1VOdHZGZHJWdmc4QT09 \nMeeting ID: 941 5881 9600 \nPasscode: 739508
URL:https://www.kohtaamispaikka.net/event/kohtaamispaikan-joulujuhla-kristillisella-koululla/
END:VEVENT
BEGIN:VEVENT
DTSTART;TZID=Europe/Helsinki:20251216T180000
DTEND;TZID=Europe/Helsinki:20251216T200000
DTSTAMP:20260425T234108
CREATED:20250912T111649Z
LAST-MODIFIED:20250912T111649Z
UID:17551-1765908000-1765915200@www.kohtaamispaikka.net
SUMMARY:Miesten raamattupiiri
DESCRIPTION:Tervetuloa Kohtaamispaikan miesten raamattupiiriin joka toinen tiistai klo 18-20 Palokan kirkon alakerran Olotupaan. Sisään pääset urheilukentän puoleista alakerran päätyovesta\, joka on avoinna klo 17:45 – 18:15. \nTule yhdessä tutkimaan Raamattua ja kasvamaan Jeesuksen Kristuksen armossa ja tuntemisessa! \nLisätietoja: Juha Tentke jtentke@gmail.com
URL:https://www.kohtaamispaikka.net/event/miesten-raamattupiiri-7/
END:VEVENT
BEGIN:VEVENT
DTSTART;TZID=Europe/Helsinki:20251217T173000
DTEND;TZID=Europe/Helsinki:20251217T190000
DTSTAMP:20260425T234108
CREATED:20250820T071410Z
LAST-MODIFIED:20250820T071410Z
UID:17337-1765992600-1765998000@www.kohtaamispaikka.net
SUMMARY:Vanhempien KohtaamisRyhmä
DESCRIPTION:Lapsiperheen arjen realiteetit tuovat usein mukanaan sen\, että omaa aikaa on vaikea saada. Vanhempien on myös haastavaa vaalia jumalasuhdettaan kun energia menee muiden perustarpeiden täyttämiseen. Tästä syystä on Vanhempien KohtaamisRyhmä. \nMitä?\nAvoin KohtaamisRyhmä vanhemmille\, jossa keskitytään yhdessä rukoiluun\, ylistykseen ja Raamatun sanaan. \nMissä? \nKeltinmäen kirkko\, päiväkerhotila. Osoite: Keltinmäentie 10. Esteetön sisäänkäynti kirkon takaa. \nEntä lapset?\nLapsille on samanaikaisesti tarjolla oma hetki läheisessä tilassa lastenhoitajien kanssa. \nIllan lopuksi tarjolla on iltapalaa erityisesti perheen pienimmille. \nLisätietoa Hannalta: hanna.viitasalo@kohtaamispaikka.net / puh. 045 7838 1992
URL:https://www.kohtaamispaikka.net/event/vanhempien-kohtaamisryhma-42/
END:VEVENT
END:VCALENDAR